BEGIN:VCALENDAR
VERSION:2.0
PRODID:-//wp-events-plugin.com//7.2.3.1//EN
TZID:America/Denver
X-WR-TIMEZONE:America/Denver
BEGIN:VEVENT
UID:393@krystal93.com
DTSTART;TZID=America/Denver:20230105T190000
DTEND;TZID=America/Denver:20230105T210000
DTSTAMP:20230102T041020Z
URL:https://krystal93.com/events/bakers-brewery-new-arkansans/
SUMMARY:Bakers Brewery- New Arkansans
DESCRIPTION:BAKERS BREWERY  \n\nWhat: Live music with The New Arkansans p
 laying acoustic rock and soul as well as blues and folk music.  \n\nWhen:
  Thursday January 5 from 7-9pm \n\nDetails: Bakers Brewery in Silverthorn
 e supports Music at the Summit – Krystal 93’s initiative to promote lo
 cal musicians. Brought to you by Mountain Comfort Furnishings.  
CATEGORIES:Bakers Brewery Events
END:VEVENT
BEGIN:VTIMEZONE
TZID:America/Denver
X-LIC-LOCATION:America/Denver
BEGIN:STANDARD
DTSTART:20221106T010000
TZOFFSETFROM:-0600
TZOFFSETTO:-0700
TZNAME:MST
END:STANDARD
END:VTIMEZONE
END:VCALENDAR