BEGIN:VCALENDAR
VERSION:2.0
PRODID:-//wp-events-plugin.com//7.2.3.1//EN
TZID:America/Denver
X-WR-TIMEZONE:America/Denver
BEGIN:VEVENT
UID:469@krystal93.com
DTSTART;TZID=America/Denver:20230311T200000
DTEND;TZID=America/Denver:20230311T220000
DTSTAMP:20230222T185047Z
URL:https://krystal93.com/events/bakers-brewery-pinheads/
SUMMARY:Bakers Brewery- PINHEADS
DESCRIPTION:Join Bakers Brewery for live music on Saturday\, March 11 fro
 m 8:00-10pm for the PINHEADS\, playing classic punk and rock hits.  Baker
 s Brewery is a proud partner in Music at the Summit\, Krystal Media's init
 iative supporting live\, local music and talent.\n\n&nbsp\;
CATEGORIES:Bakers Brewery Events
END:VEVENT
BEGIN:VTIMEZONE
TZID:America/Denver
X-LIC-LOCATION:America/Denver
BEGIN:STANDARD
DTSTART:20221106T010000
TZOFFSETFROM:-0600
TZOFFSETTO:-0700
TZNAME:MST
END:STANDARD
END:VTIMEZONE
END:VCALENDAR