BEGIN:VCALENDAR
VERSION:2.0
PRODID:-//wp-events-plugin.com//7.2.3.1//EN
TZID:America/Denver
X-WR-TIMEZONE:America/Denver
BEGIN:VEVENT
UID:405@krystal93.com
DTSTART;TZID=America/Denver:20230112T190000
DTEND;TZID=America/Denver:20230112T210000
DTSTAMP:20230107T182729Z
URL:https://krystal93.com/events/bakers-brewery-pluck-norris-trio/
SUMMARY:Bakers Brewery-Pluck Norris Trio
DESCRIPTION:BAKERS BREWERY:\n\nThursday\, Jan 12 from 7:00-9:00pm\, The Plu
 ck Norris Trio -- check out the grassed-up acoustic covers and originals o
 f Loren &amp\; Beato\, plus Max on Standup Bass.
CATEGORIES:Bakers Brewery Events
END:VEVENT
BEGIN:VTIMEZONE
TZID:America/Denver
X-LIC-LOCATION:America/Denver
BEGIN:STANDARD
DTSTART:20221106T010000
TZOFFSETFROM:-0600
TZOFFSETTO:-0700
TZNAME:MST
END:STANDARD
END:VTIMEZONE
END:VCALENDAR