BEGIN:VCALENDAR
VERSION:2.0
PRODID:-//wp-events-plugin.com//7.2.3.1//EN
TZID:America/Denver
X-WR-TIMEZONE:America/Denver
BEGIN:VEVENT
UID:466@krystal93.com
DTSTART;TZID=America/Denver:20230303T200000
DTEND;TZID=America/Denver:20230303T220000
DTSTAMP:20230222T184621Z
URL:https://krystal93.com/events/bakers-brewery-rail-jam-after-party/
SUMMARY:Bakers Brewery Rail Jam AFTER PARTY
DESCRIPTION:Join Bakers Brewery for live music on Friday\, March 3 from 8
 :00-10pm for the First Friday Rail Jam after-party with Primal J and the N
 eanderthals. They'll play funky dirty grunge grass rock music.  Bakers Br
 ewery is a proud partner in Music at the Summit\, Krystal Media's initiati
 ve supporting live\, local music and talent.\n\n&nbsp\;
CATEGORIES:Bakers Brewery Events
END:VEVENT
BEGIN:VTIMEZONE
TZID:America/Denver
X-LIC-LOCATION:America/Denver
BEGIN:STANDARD
DTSTART:20221106T010000
TZOFFSETFROM:-0600
TZOFFSETTO:-0700
TZNAME:MST
END:STANDARD
END:VTIMEZONE
END:VCALENDAR