BEGIN:VCALENDAR
VERSION:2.0
PRODID:-//wp-events-plugin.com//7.2.3.1//EN
TZID:America/Denver
X-WR-TIMEZONE:America/Denver
BEGIN:VEVENT
UID:497@krystal93.com
DTSTART;TZID=America/Denver:20230323T190000
DTEND;TZID=America/Denver:20230323T210000
DTSTAMP:20230316T033702Z
URL:https://krystal93.com/events/bakers-brewery-ryan-and-andy/
SUMMARY:Bakers Brewery- Ryan and Andy
DESCRIPTION:Come to Bakers Brewery where the music starts at 7:00pm with Ry
 an &amp\; Andy’s Home Grown Mountain Jams - new &amp\; classic rock cove
 rs sprinkled with mountain inspired originals.\n\nBakers Brewery is a prou
 d supporter of Music at the Summit\, Krystal 93's initiative to promote li
 ve\, local musicians.
CATEGORIES:Bakers Brewery Events
END:VEVENT
BEGIN:VTIMEZONE
TZID:America/Denver
X-LIC-LOCATION:America/Denver
BEGIN:DAYLIGHT
DTSTART:20230312T030000
TZOFFSETFROM:-0700
TZOFFSETTO:-0600
TZNAME:MDT
END:DAYLIGHT
END:VTIMEZONE
END:VCALENDAR