BEGIN:VCALENDAR
VERSION:2.0
PRODID:-//wp-events-plugin.com//7.2.3.1//EN
TZID:America/Denver
X-WR-TIMEZONE:America/Denver
BEGIN:VEVENT
UID:408@krystal93.com
DTSTART;TZID=America/Denver:20230114T200000
DTEND;TZID=America/Denver:20230114T220000
DTSTAMP:20230108T004053Z
URL:https://krystal93.com/events/bakers-brewery-the-buzz/
SUMMARY:Bakers Brewery- The BUZZ
DESCRIPTION:BAKERS BREWERY   \n\nWhat: The BUZZ - Based out of Denver\, C
 olorado\, The Buzz is an up &amp\; coming funk jam psychedelic rock 5-piec
 e reminiscent of #Phish or #Goose! \n\nWhen: Saturday January 14\, from 8
 -10pm \n\nDetails: Bakers Brewery in Silverthorne supports Music at the S
 ummit – Krystal 93’s initiative to promote local musicians. Brought to
  you by Mountain Comfort Furnishings. 
CATEGORIES:Bakers Brewery Events
END:VEVENT
BEGIN:VTIMEZONE
TZID:America/Denver
X-LIC-LOCATION:America/Denver
BEGIN:STANDARD
DTSTART:20221106T010000
TZOFFSETFROM:-0600
TZOFFSETTO:-0700
TZNAME:MST
END:STANDARD
END:VTIMEZONE
END:VCALENDAR