BEGIN:VCALENDAR
VERSION:2.0
PRODID:-//wp-events-plugin.com//7.2.3.1//EN
TZID:America/Denver
X-WR-TIMEZONE:America/Denver
BEGIN:VEVENT
UID:428@krystal93.com
DTSTART;TZID=America/Denver:20230204T200000
DTEND;TZID=America/Denver:20230204T220000
DTSTAMP:20230127T032630Z
URL:https://krystal93.com/events/bakers-brewery-the-pinheads/
SUMMARY:Bakers Brewery - The Pinheads
DESCRIPTION:Come to Bakers Brewery to hear live music with the Pinheads fro
 m 8:00-10:00pm. Hear their classic punk and rock hits. Bakers Brewery is a
  proud partner in Music at the Summit\, supporting live local music with K
 rystal 93.\n\n&nbsp\;\n\n&nbsp\;
CATEGORIES:Bakers Brewery Events
END:VEVENT
BEGIN:VTIMEZONE
TZID:America/Denver
X-LIC-LOCATION:America/Denver
BEGIN:STANDARD
DTSTART:20221106T010000
TZOFFSETFROM:-0600
TZOFFSETTO:-0700
TZNAME:MST
END:STANDARD
END:VTIMEZONE
END:VCALENDAR