BEGIN:VCALENDAR
VERSION:2.0
PRODID:-//wp-events-plugin.com//7.2.3.1//EN
TZID:America/Denver
X-WR-TIMEZONE:America/Denver
BEGIN:VEVENT
UID:494@krystal93.com
DTSTART;TZID=America/Denver:20230316T190000
DTEND;TZID=America/Denver:20230316T210000
DTSTAMP:20230316T033319Z
URL:https://krystal93.com/events/bakers-brewery-todd-johnson-trio/
SUMMARY:Bakers Brewery- Todd Johnson Trio
DESCRIPTION:Come to Bakers Brewery where the music starts at 7pm with the T
 odd Johnson Trio – Todd Johnson w/ “Shoes” (in honor of Arnie J)  B
 ass &amp\; Drums -- ready for Rockin' Blues.\n\nBakers Brewery is a proud 
 supporter of Music at the Summit\, Krystal 93's initiative to promote live
 \, local musicians.
CATEGORIES:Bakers Brewery Events
END:VEVENT
BEGIN:VTIMEZONE
TZID:America/Denver
X-LIC-LOCATION:America/Denver
BEGIN:DAYLIGHT
DTSTART:20230312T030000
TZOFFSETFROM:-0700
TZOFFSETTO:-0600
TZNAME:MDT
END:DAYLIGHT
END:VTIMEZONE
END:VCALENDAR