BEGIN:VCALENDAR
VERSION:2.0
PRODID:-//wp-events-plugin.com//7.2.3.1//EN
TZID:America/Denver
X-WR-TIMEZONE:America/Denver
BEGIN:VEVENT
UID:416@krystal93.com
DTSTART;TZID=America/Denver;VALUE=DATE:20230224
DTEND;TZID=America/Denver;VALUE=DATE:20230226
DTSTAMP:20230127T031217Z
URL:https://krystal93.com/events/banff-mountain-film-festival/
SUMMARY:BANFF Mountain Film Festival
DESCRIPTION:WHAT: The BANFF Mountain Film Festival \n\nWHERE: Breckenridge
  at the Riverwalk Center \n\nWHEN: February 24 and 25 \n\nDetails: Ticke
 ts go on sale February 1st. Get info on two-night or single night tickets 
 at BOEC.org. Krystal Media Supports the Summit. \n\n&nbsp\;
END:VEVENT
BEGIN:VTIMEZONE
TZID:America/Denver
X-LIC-LOCATION:America/Denver
BEGIN:STANDARD
DTSTART:20221106T010000
TZOFFSETFROM:-0600
TZOFFSETTO:-0700
TZNAME:MST
END:STANDARD
END:VTIMEZONE
END:VCALENDAR