BEGIN:VCALENDAR
VERSION:2.0
PRODID:-//wp-events-plugin.com//7.2.3.1//EN
TZID:America/Denver
X-WR-TIMEZONE:America/Denver
BEGIN:VEVENT
UID:760@krystal93.com
DTSTART;TZID=America/Denver:20231102T190000
DTEND;TZID=America/Denver:20231102T210000
DTSTAMP:20231101T010421Z
URL:https://krystal93.com/events/beau-thomas-live/
SUMMARY:Beau Thomas LIVE
DESCRIPTION:Come listen to Beau Thomas at Highside Brewing in FRISCO from 7
 :00 to 9:00pm. Highside Brewing supports Music at the Summit\, Krystal Med
 ia's initiative to promote live\, local music in Summit County!
CATEGORIES:Highside Brewing
END:VEVENT
BEGIN:VTIMEZONE
TZID:America/Denver
X-LIC-LOCATION:America/Denver
BEGIN:DAYLIGHT
DTSTART:20230312T030000
TZOFFSETFROM:-0700
TZOFFSETTO:-0600
TZNAME:MDT
END:DAYLIGHT
END:VTIMEZONE
END:VCALENDAR