BEGIN:VCALENDAR
VERSION:2.0
PRODID:-//wp-events-plugin.com//7.2.3.1//EN
TZID:America/Denver
X-WR-TIMEZONE:America/Denver
BEGIN:VEVENT
UID:443@krystal93.com
DTSTART;TZID=America/Denver:20230211T190000
DTEND;TZID=America/Denver:20230211T220000
DTSTAMP:20230131T192817Z
URL:https://krystal93.com/events/beermakers-dinner/
SUMMARY:Beermaker's Dinner
DESCRIPTION:EAT\, DRINK\, ROCK: BEERMAKER’S DINNER WITH ELYSIAN BREWING 
 \n\nWhen: Saturday\, February 11th\, from 7:00-10:00pm \n\nWhere: Warren 
 Station\, River Run at Keystone \n\nDetails: Enjoy live music and a great
  beer tasting along with a wonderful meal. Music begins at 7:45pm. The tas
 ting lasts until 9pm and the event ends at 10. Go to warrenstation.com for
  tickets.  
END:VEVENT
BEGIN:VTIMEZONE
TZID:America/Denver
X-LIC-LOCATION:America/Denver
BEGIN:STANDARD
DTSTART:20221106T010000
TZOFFSETFROM:-0600
TZOFFSETTO:-0700
TZNAME:MST
END:STANDARD
END:VTIMEZONE
END:VCALENDAR