BEGIN:VCALENDAR
VERSION:2.0
PRODID:-//wp-events-plugin.com//7.2.3.1//EN
TZID:America/Denver
X-WR-TIMEZONE:America/Denver
BEGIN:VEVENT
UID:1742@krystal93.com
DTSTART;TZID=America/Denver:20251107T100000
DTEND;TZID=America/Denver:20251107T123000
DTSTAMP:20251103T090145Z
URL:https://krystal93.com/events/beginner-sewing/
SUMMARY:Beginner Sewing
DESCRIPTION:FRIDAY\, NOVEMBER 7\, 2025\n\nBeginner Sewing (Bilingual)\n\n10
 :00 am -12:30 pm / Breckenridge\n\nBring your family and unleash your inne
 r designer in our fun and hands-on Beginner Sewing class. No childcare or 
 supervision of children is being provided. This event is intended for Summ
 it County residents only. Event Facilitated in English and Spanish.
CATEGORIES:Building Hope Summit County
END:VEVENT
BEGIN:VTIMEZONE
TZID:America/Denver
X-LIC-LOCATION:America/Denver
BEGIN:STANDARD
DTSTART:20251102T010000
TZOFFSETFROM:-0600
TZOFFSETTO:-0700
TZNAME:MST
END:STANDARD
END:VTIMEZONE
END:VCALENDAR