BEGIN:VCALENDAR
VERSION:2.0
PRODID:-//wp-events-plugin.com//7.2.3.1//EN
TZID:America/Denver
X-WR-TIMEZONE:America/Denver
BEGIN:VEVENT
UID:1251@krystal93.com
DTSTART;TZID=America/Denver:20241207T110000
DTEND;TZID=America/Denver:20241207T140000
DTSTAMP:20241201T201641Z
URL:https://krystal93.com/events/bernerfeset-vip-brunch/
SUMMARY:Bernerfest VIP brunch
DESCRIPTION:This exclusive celebration will bring together Bernese Mountain
  Dog lovers for a fun-filled morning of delicious food\, delightful drinks
 \, and great company! Each guest will receive one VIP Continental Divide W
 inery gift bag\, complete with treats for both humans and pups\, including
  a drink ticket. Additional drinks will be available for purchase.
END:VEVENT
BEGIN:VTIMEZONE
TZID:America/Denver
X-LIC-LOCATION:America/Denver
BEGIN:STANDARD
DTSTART:20241103T010000
TZOFFSETFROM:-0600
TZOFFSETTO:-0700
TZNAME:MST
END:STANDARD
END:VTIMEZONE
END:VCALENDAR