BEGIN:VCALENDAR
VERSION:2.0
PRODID:-//wp-events-plugin.com//7.2.3.1//EN
TZID:America/Denver
X-WR-TIMEZONE:America/Denver
BEGIN:VEVENT
UID:1589@krystal93.com
DTSTART;TZID=America/Denver:20250711T180000
DTEND;TZID=America/Denver:20250711T210000
DTSTAMP:20250702T011856Z
URL:https://krystal93.com/events/bhsc-beginner-screen-printing/
SUMMARY:BHSC - Beginner Screen Printing
DESCRIPTION:FRIDAY\, JULY 11\, 2025\n\nBEGINNER SCREEN PRINTING\n\n6:00 pm 
 - 9:00 pm\n\nBreckenridge\n\nJoin Building Hope and the HYPE at the Breck 
 Create to learn how to create a silkscreen design of your very own and exp
 eriment with printing your first one-color images. Open to registered Summ
 it County Residents Ages 12-18. Go to BuildingHopeSummit.org to sign up.\n
 \nEvent Facilitated in English
CATEGORIES:Building Hope Summit County
END:VEVENT
BEGIN:VTIMEZONE
TZID:America/Denver
X-LIC-LOCATION:America/Denver
BEGIN:DAYLIGHT
DTSTART:20250309T030000
TZOFFSETFROM:-0700
TZOFFSETTO:-0600
TZNAME:MDT
END:DAYLIGHT
END:VTIMEZONE
END:VCALENDAR