BEGIN:VCALENDAR
VERSION:2.0
PRODID:-//wp-events-plugin.com//7.2.3.1//EN
TZID:America/Denver
X-WR-TIMEZONE:America/Denver
BEGIN:VEVENT
UID:1590@krystal93.com
DTSTART;TZID=America/Denver:20250712T100000
DTEND;TZID=America/Denver:20250712T120000
DTSTAMP:20250702T012050Z
URL:https://krystal93.com/events/bhsc-decoupage-paper-lantern-making/
SUMMARY:BHSC - Decoupage Paper Lantern Making
DESCRIPTION:SATURDAY\, JULY 12\, 2025\n\n DECOUPAGE PAPER LANTERN BY SIMPLE
  STUDIO (BILINGUAL)\n\n 10:00 am - 12:00 pm / Silverthorne \n\nBring your 
 family and get ready to decorate paper lanterns using “Decoupage” and 
 painting techniques at Art Spot. This event is intended for Summit County 
 residents only Event Facilitated in English and Spanish.\n\n Go to Buildin
 gHopeSummit.org to sign up.
CATEGORIES:Building Hope Summit County
END:VEVENT
BEGIN:VTIMEZONE
TZID:America/Denver
X-LIC-LOCATION:America/Denver
BEGIN:DAYLIGHT
DTSTART:20250309T030000
TZOFFSETFROM:-0700
TZOFFSETTO:-0600
TZNAME:MDT
END:DAYLIGHT
END:VTIMEZONE
END:VCALENDAR