BEGIN:VCALENDAR
VERSION:2.0
PRODID:-//wp-events-plugin.com//7.2.3.1//EN
TZID:America/Denver
X-WR-TIMEZONE:America/Denver
BEGIN:VEVENT
UID:1595@krystal93.com
DTSTART;TZID=America/Denver:20250731T190000
DTEND;TZID=America/Denver:20250731T203000
DTSTAMP:20250702T012710Z
URL:https://krystal93.com/events/bhsc-fitness-experience-psyfi/
SUMMARY:BHSC - Inner Wellness Path
DESCRIPTION:THURSDAY\, JULY 31\, 2025\n\nTHE INNER WELLNESS PATH: PHYSICAL 
 &amp\; ENERGETIC HEALING (BILINGUAL)\n\n7:00 pm- 8:30 pm / Frisco\n\nA tra
 nsformative journey to reconnect with your mind\, body\, and spirit —and
  reclaim the most powerful version of you. This event is intended for Summ
 it County residents only Event Facilitated in English and Spanish.\n\nSign
  up at buildinghopesummit.org.
CATEGORIES:Building Hope Summit County
END:VEVENT
BEGIN:VTIMEZONE
TZID:America/Denver
X-LIC-LOCATION:America/Denver
BEGIN:DAYLIGHT
DTSTART:20250309T030000
TZOFFSETFROM:-0700
TZOFFSETTO:-0600
TZNAME:MDT
END:DAYLIGHT
END:VTIMEZONE
END:VCALENDAR