BEGIN:VCALENDAR
VERSION:2.0
PRODID:-//wp-events-plugin.com//7.2.3.1//EN
TZID:America/Denver
X-WR-TIMEZONE:America/Denver
BEGIN:VEVENT
UID:1593@krystal93.com
DTSTART;TZID=America/Denver:20250722T180000
DTEND;TZID=America/Denver:20250722T200000
DTSTAMP:20250702T012324Z
URL:https://krystal93.com/events/bhsc-teen-expressive-art/
SUMMARY:BHSC - Teen Expressive Art
DESCRIPTION:TUESDAY\, JULY 22\, 2025\n\nTEEN EXPRESSIVE ART\n\n6:00 pm - 8:
 00 pm / Silverthorne\n\nJoin Expressive Artist Kathye art plays in promoti
 ng personal well-being and connectedness. This event is intended for Summi
 t County residents only. Ages 12-18. Event Facilitated in English\n\nSign 
 up at buildinghopesummit.org.
CATEGORIES:Building Hope Summit County
END:VEVENT
BEGIN:VTIMEZONE
TZID:America/Denver
X-LIC-LOCATION:America/Denver
BEGIN:DAYLIGHT
DTSTART:20250309T030000
TZOFFSETFROM:-0700
TZOFFSETTO:-0600
TZNAME:MDT
END:DAYLIGHT
END:VTIMEZONE
END:VCALENDAR