BEGIN:VCALENDAR
VERSION:2.0
PRODID:-//wp-events-plugin.com//7.2.3.1//EN
TZID:America/Denver
X-WR-TIMEZONE:America/Denver
BEGIN:VEVENT
UID:1594@krystal93.com
DTSTART;TZID=America/Denver:20250724T100000
DTEND;TZID=America/Denver:20250724T113000
DTSTAMP:20250702T012423Z
URL:https://krystal93.com/events/bhsc-teen-yoga/
SUMMARY:BHSC - Teen Yoga
DESCRIPTION:THURSDAY\, JULY 24\, 2025 \n\nOUTDOOR TEEN YOGA (BILINGUAL) \n\
 n10:00 am - 11:30am / Frisco \n\nJoin Building Hope and Jess for a chill o
 utdoors session - move your body\, breathe deep\, and feel the flow togeth
 er in the fresh air. This event is intended for Summit County residents on
 ly. Ages 12-18. Event Facilitated in English and Spanish.Sign up at buildi
 nghopesummit.org.
CATEGORIES:Building Hope Summit County
END:VEVENT
BEGIN:VTIMEZONE
TZID:America/Denver
X-LIC-LOCATION:America/Denver
BEGIN:DAYLIGHT
DTSTART:20250309T030000
TZOFFSETFROM:-0700
TZOFFSETTO:-0600
TZNAME:MDT
END:DAYLIGHT
END:VTIMEZONE
END:VCALENDAR