BEGIN:VCALENDAR
VERSION:2.0
PRODID:-//wp-events-plugin.com//7.2.3.1//EN
TZID:America/Denver
X-WR-TIMEZONE:America/Denver
BEGIN:VEVENT
UID:1382@krystal93.com
DTSTART;TZID=America/Denver:20250215T200000
DTEND;TZID=America/Denver:20250215T230000
DTSTAMP:20250203T150033Z
URL:https://krystal93.com/events/big-richard-10-mile-music-hall/
SUMMARY:Big Richard @ 10 Mile Music Hall
DESCRIPTION:The world-class musicians in Big Richard initially convened in 
 2021 for a festival date. The quartet showed up to the one-off like it had
  been together for years\, bursting with jaw-dropping virtuosity\; playful
 ly irreverent stage banter\; stunning four-part harmony vocal interlace\; 
 imaginative arrangements\; a refreshingly eclectic repertoire\; and a heal
 thy dose of lady rage.\nQuickly things for the Colorado-based\, neo-acoust
 ic supergroup morphed into something way bigger than a one-and-done appear
 ance. The sellout club shows\, and the confirmed festival dates across Ame
 rica drastically changed its members’ lives. Now\, Big Richard is poised
  to penetrate the Americana music world and beyond. To date\, the quartet 
 has issued 3 singles\, the Live from Telluride album\, and it has new musi
 c on the way.\n\nWith the Fretliners!\n\n10 Mile Music Hall in Frisco @ 8:
 00pm. 
CATEGORIES:10 Mile Music Hall
END:VEVENT
BEGIN:VTIMEZONE
TZID:America/Denver
X-LIC-LOCATION:America/Denver
BEGIN:STANDARD
DTSTART:20241103T010000
TZOFFSETFROM:-0600
TZOFFSETTO:-0700
TZNAME:MST
END:STANDARD
END:VTIMEZONE
END:VCALENDAR