BEGIN:VCALENDAR
VERSION:2.0
PRODID:-//wp-events-plugin.com//7.2.3.1//EN
TZID:America/Denver
X-WR-TIMEZONE:America/Denver
BEGIN:VEVENT
UID:1163@krystal93.com
DTSTART;TZID=America/Denver:20240912T180000
DTEND;TZID=America/Denver:20240912T200000
DTSTAMP:20240829T221521Z
URL:https://krystal93.com/events/bilingual-womens-mtn-biking/
SUMMARY:Bilingual Women's Mtn Biking
DESCRIPTION:THURSDAY\, SEPTEMBER 12\n6-8 pm\nBILINGUAL WOMEN’S MOUNTAIN B
 IKING\nFrisco\nJoin Building Hope and The Cycle Effect\nfor an instruction
 al day on the single track!\nThe Cycle Effect will provide mountain bikes\
 nand helmets.\nEvent Facilitated in English and Spanish\nGo to buildinghop
 esummit.org for more info and to sign up.
CATEGORIES:Building Hope Summit County
END:VEVENT
BEGIN:VTIMEZONE
TZID:America/Denver
X-LIC-LOCATION:America/Denver
BEGIN:DAYLIGHT
DTSTART:20240310T030000
TZOFFSETFROM:-0700
TZOFFSETTO:-0600
TZNAME:MDT
END:DAYLIGHT
END:VTIMEZONE
END:VCALENDAR