BEGIN:VCALENDAR
VERSION:2.0
PRODID:-//wp-events-plugin.com//7.2.3.1//EN
TZID:America/Denver
X-WR-TIMEZONE:America/Denver
BEGIN:VEVENT
UID:552@krystal93.com
DTSTART;TZID=America/Denver:20230517T180000
DTEND;TZID=America/Denver:20230517T193000
DTSTAMP:20230430T225254Z
URL:https://krystal93.com/events/bilingual-yoga-2/
SUMMARY:Bilingual Yoga
DESCRIPTION:5/17 BILINGUAL YOGA \n\nStrengthen the heart\, body and mind. 
 Join us for a relaxing session of Yoga! Participation limited to ages 16+.
 www.buildinghopesummit.org/events  Facilitated in English and Spanish. \
 n\nTime: 6-7:30pm Location: Silverthorne \n\nwww.buildinghopesummit.org/e
 vents \n\n&nbsp\;
CATEGORIES:Building Hope Summit County
END:VEVENT
BEGIN:VTIMEZONE
TZID:America/Denver
X-LIC-LOCATION:America/Denver
BEGIN:DAYLIGHT
DTSTART:20230312T030000
TZOFFSETFROM:-0700
TZOFFSETTO:-0600
TZNAME:MDT
END:DAYLIGHT
END:VTIMEZONE
END:VCALENDAR