BEGIN:VCALENDAR
VERSION:2.0
PRODID:-//wp-events-plugin.com//7.2.3.1//EN
TZID:America/Denver
X-WR-TIMEZONE:America/Denver
BEGIN:VEVENT
UID:633@krystal93.com
DTSTART;TZID=America/Denver:20230717T173000
DTEND;TZID=America/Denver:20230717T190000
DTSTAMP:20230701T151701Z
URL:https://krystal93.com/events/bilingual-yoga-3/
SUMMARY:Bilingual Yoga
DESCRIPTION:\n\n\n\n\n\n\n\n\n\n\n\n\n\n\n\nBILINGUAL YOGA\n\nStrengthen th
 e heart\, body and\n\nmind. Join us for a relaxing session of Yoga! Partic
 ipation limited to ages 16+. Facilitated in English and Spanish.\n\nTime: 
 5:30-7pm\n\nLocation: Silverthorne\n\n\n\n\n\n\n\n\n\n\n\n\n\n\n\n\nGo to 
 Building Hope Summit County for more information.  
CATEGORIES:Building Hope Summit County
END:VEVENT
BEGIN:VTIMEZONE
TZID:America/Denver
X-LIC-LOCATION:America/Denver
BEGIN:DAYLIGHT
DTSTART:20230312T030000
TZOFFSETFROM:-0700
TZOFFSETTO:-0600
TZNAME:MDT
END:DAYLIGHT
END:VTIMEZONE
END:VCALENDAR