BEGIN:VCALENDAR
VERSION:2.0
PRODID:-//wp-events-plugin.com//7.2.3.1//EN
TZID:America/Denver
X-WR-TIMEZONE:America/Denver
BEGIN:VEVENT
UID:1783@krystal93.com
DTSTART;TZID=America/Denver:20260128T180000
DTEND;TZID=America/Denver:20260128T193000
DTSTAMP:20260102T024846Z
URL:https://krystal93.com/events/bilingual-yoga-5/
SUMMARY:Bilingual Yoga
DESCRIPTION:WEDNESDAY\, JANUARY 28\, 2026\nBilingual Yoga with Yess\n6:00 p
 m - 7:30 pm / Frisco\nJoin us for a yoga session that will strengthen your
 \nheart and body\, cleanse your body of impurities\, and\nregulate your me
 tabolism and immune system.\nThis event is intended for Summit County resi
 dents only.\nEvent Facilitated in English and Spanish.\n Go to BuildingHop
 eSummit.org to sign up.
CATEGORIES:Building Hope Summit County
END:VEVENT
BEGIN:VTIMEZONE
TZID:America/Denver
X-LIC-LOCATION:America/Denver
BEGIN:STANDARD
DTSTART:20251102T010000
TZOFFSETFROM:-0600
TZOFFSETTO:-0700
TZNAME:MST
END:STANDARD
END:VTIMEZONE
END:VCALENDAR