BEGIN:VCALENDAR
VERSION:2.0
PRODID:-//wp-events-plugin.com//7.2.3.1//EN
TZID:America/Denver
X-WR-TIMEZONE:America/Denver
BEGIN:VEVENT
UID:796@krystal93.com
DTSTART;TZID=America/Denver:20231215T210000
DTEND;TZID=America/Denver:20231215T233000
DTSTAMP:20231214T005134Z
URL:https://krystal93.com/events/bkellz-at-the-underground/
SUMMARY:BKellZ at The Underground
DESCRIPTION:Check out live music at the Underground next to Elevation Bowl 
 in Dillon. Bee-Kay-Ellz will be there Friday December 15 starting at 9pm. 
 He’s a DJ and Drummer from Denver bringing disco and funk together for a
  great night of music. That's at The Underground tomorrow night starting a
 t 9pm. It’s 21 and over. Get tickets at theundergrounddillon.com. 
END:VEVENT
BEGIN:VTIMEZONE
TZID:America/Denver
X-LIC-LOCATION:America/Denver
BEGIN:STANDARD
DTSTART:20231105T010000
TZOFFSETFROM:-0600
TZOFFSETTO:-0700
TZNAME:MST
END:STANDARD
END:VTIMEZONE
END:VCALENDAR