BEGIN:VCALENDAR
VERSION:2.0
PRODID:-//wp-events-plugin.com//7.2.3.1//EN
TZID:America/Denver
X-WR-TIMEZONE:America/Denver
BEGIN:VEVENT
UID:1692@krystal93.com
DTSTART;TZID=America/Denver:20250905T173000
DTEND;TZID=America/Denver:20250905T200000
DTSTAMP:20250829T144350Z
URL:https://krystal93.com/events/blue-river-festival-kickoff/
SUMMARY:Blue River Festival Kickoff
DESCRIPTION:On September 5th\, 5:30 - 8:00 PM at the Patagonia Store in Bre
 ckenridge\, celebrate the kickoff of the Blue River Festival! There will b
 e a happy hour and presentations from Taylor Hawes of the Nature Conservan
 cy and Jon Ewert\, an aquatic biologist from Colorado Parks and Wildlife. 
 Enjoy a Silent Auction with prizes from big brands like NRS\, Yeti\, Patag
 onia\, Vail Resorts\, local yoga studios\, and more! That’s Friday Septe
 mber 5th! 
CATEGORIES:Family Event
END:VEVENT
BEGIN:VTIMEZONE
TZID:America/Denver
X-LIC-LOCATION:America/Denver
BEGIN:DAYLIGHT
DTSTART:20250309T030000
TZOFFSETFROM:-0700
TZOFFSETTO:-0600
TZNAME:MDT
END:DAYLIGHT
END:VTIMEZONE
END:VCALENDAR