BEGIN:VCALENDAR
VERSION:2.0
PRODID:-//wp-events-plugin.com//7.2.3.1//EN
TZID:America/Denver
X-WR-TIMEZONE:America/Denver
BEGIN:VEVENT
UID:1159@krystal93.com
DTSTART;TZID=America/Denver;VALUE=DATE:20240906
DTEND;TZID=America/Denver;VALUE=DATE:20240908
DTSTAMP:20240829T014758Z
URL:https://krystal93.com/events/blue-river-festival/
SUMMARY:Blue River Festival
DESCRIPTION:The Blue River Festival is coming up\, hosted by the Blue River
  Watershed Group. The launch party is at The Pad in Silverthorne on Friday
  September 6\, then on Saturday September 7\, help clean up the river and 
 then enjoy an afterparty at Frisco Marina for volunteers – free lunch\, 
 music\, beer\, fly fishing lessons and more. Go to blueriverwatershed.org 
 for more information.  
CATEGORIES:Family Event
END:VEVENT
BEGIN:VTIMEZONE
TZID:America/Denver
X-LIC-LOCATION:America/Denver
BEGIN:DAYLIGHT
DTSTART:20240310T030000
TZOFFSETFROM:-0700
TZOFFSETTO:-0600
TZNAME:MDT
END:DAYLIGHT
END:VTIMEZONE
END:VCALENDAR