BEGIN:VCALENDAR
VERSION:2.0
PRODID:-//wp-events-plugin.com//7.2.3.1//EN
TZID:America/Denver
X-WR-TIMEZONE:America/Denver
BEGIN:VEVENT
UID:1811@krystal93.com
DTSTART;TZID=America/Denver:20260206T170000
DTEND;TZID=America/Denver:20260206T190000
DTSTAMP:20260203T030625Z
URL:https://krystal93.com/events/bob-ross-painting-12-18/
SUMMARY:Bob Ross painting (12-18)
DESCRIPTION:FRIDAY\, FEBRUARY 6\, 2026\nBob Ross Style Painting | Ages 12-1
 8\n5:00 pm - 07:00 pm / Breckenridge\nTake yourself on a happy little pain
 ting adventure. Designed for novice painters and fun-seekers alike\, this 
 class was created with Bob’s soothing vibes\, "dreamy skies\,” “cozy
  little cabins\,” and “happy little trees\,” in mind.\nThis event is
  intended for Summit County residents only. Ages 12-18.\nEvent Facilitated
  in English.\nGo to buildinghopesummit.org to sign up and for more details
 .
CATEGORIES:Building Hope Summit County
END:VEVENT
BEGIN:VTIMEZONE
TZID:America/Denver
X-LIC-LOCATION:America/Denver
BEGIN:STANDARD
DTSTART:20251102T010000
TZOFFSETFROM:-0600
TZOFFSETTO:-0700
TZNAME:MST
END:STANDARD
END:VTIMEZONE
END:VCALENDAR