BEGIN:VCALENDAR
VERSION:2.0
PRODID:-//wp-events-plugin.com//7.2.3.1//EN
TZID:America/Denver
X-WR-TIMEZONE:America/Denver
BEGIN:VEVENT
UID:832@krystal93.com
DTSTART;TZID=America/Denver:20240223T180000
DTEND;TZID=America/Denver:20240224T220000
DTSTAMP:20240111T212140Z
URL:https://krystal93.com/events/boec-banff-mtn-film-festival/
SUMMARY:BOEC Banff Mtn Film Festival
DESCRIPTION:For the past 14 years\, the Breckenridge Outdoor Education Cent
 er (BOEC) has hosted the Banff Mountain Film Festival World Tour\, bringi
 ng some of the most inspiring and thought-provoking action\, environmental
  and adventure mountain films right here to Breckenridge\, Colorado. This 
 exhilarating and provocative exploration of the mountain world features fi
 lms from the highest peaks and other far-flung corners of the world\, as w
 ell as adrenaline-packed action sports presented over two nights each year
 .\n\nThe 2024 Banff Mountain Film Festival is scheduled to take place Frid
 ay and Saturday\, February 23 and 24\, 2024 at the Riverwalk Center in Bre
 ckenridge\, Colorado.  Doors open at 6pm with films set to start at 7pm.
   Tickets will go on sale February 1st\, 2024.\n\nAll proceeds from this 
 event support BOEC’s adaptive sports programs for people with disabilit
 ies and special needs.  For more information about this event\, please co
 ntact the BOEC at boec@boec.org.
END:VEVENT
BEGIN:VTIMEZONE
TZID:America/Denver
X-LIC-LOCATION:America/Denver
BEGIN:STANDARD
DTSTART:20231105T010000
TZOFFSETFROM:-0600
TZOFFSETTO:-0700
TZNAME:MST
END:STANDARD
END:VTIMEZONE
END:VCALENDAR