BEGIN:VCALENDAR
VERSION:2.0
PRODID:-//wp-events-plugin.com//7.2.3.1//EN
TZID:America/Denver
X-WR-TIMEZONE:America/Denver
BEGIN:VEVENT
UID:1011@krystal93.com
DTSTART;TZID=America/Denver:20240706T183000
DTEND;TZID=America/Denver:20240706T210000
DTSTAMP:20240531T231518Z
URL:https://krystal93.com/events/bonus-free-concert-dillon-amphitheater/
SUMMARY:Bonus Free Concert - Dillon Amphitheater
DESCRIPTION:PG6IX\nWith special guest Stereo Transmission\n\n 	Date:07/06/2
 024 6:30 PM - 10:00 PM\n 	Location:Dillon Amphitheater\n135 W. Lodgepole S
 treet\nDillon\, Colorado 80435\n 	Introduction:Bonus free Saturday night
  concert\n
CATEGORIES:Dillon Amphitheater
END:VEVENT
BEGIN:VTIMEZONE
TZID:America/Denver
X-LIC-LOCATION:America/Denver
BEGIN:DAYLIGHT
DTSTART:20240310T030000
TZOFFSETFROM:-0700
TZOFFSETTO:-0600
TZNAME:MDT
END:DAYLIGHT
END:VTIMEZONE
END:VCALENDAR