BEGIN:VCALENDAR
VERSION:2.0
PRODID:-//wp-events-plugin.com//7.2.3.1//EN
TZID:America/Denver
X-WR-TIMEZONE:America/Denver
BEGIN:VEVENT
UID:1890@krystal93.com
DTSTART;TZID=America/Denver:20260414T190000
DTEND;TZID=America/Denver:20260414T203000
DTSTAMP:20260329T133314Z
URL:https://krystal93.com/events/breath-and-sound-with-building-hope/
SUMMARY:Breath and Sound with Building Hope
DESCRIPTION:TUESDAY\, APRIL 14\, 2026\nInner Coherence: Breath and Sound\n7
 :00-8:30 pm / Frisco\nJoin us for a transformative evening combining\nbrea
 thwork and sound healing to release stress\,\nanxiety\, and stored emotion
 s.\nThis event is intended for Summit County residents only.\nEvent Facili
 tated in English &amp\; Spanish.\nCONTACT BuildingHopeSummit.org for more 
 information and to sign up.
CATEGORIES:Building Hope Summit County
END:VEVENT
BEGIN:VTIMEZONE
TZID:America/Denver
X-LIC-LOCATION:America/Denver
BEGIN:DAYLIGHT
DTSTART:20260308T030000
TZOFFSETFROM:-0700
TZOFFSETTO:-0600
TZNAME:MDT
END:DAYLIGHT
END:VTIMEZONE
END:VCALENDAR