BEGIN:VCALENDAR
VERSION:2.0
PRODID:-//wp-events-plugin.com//7.2.3.1//EN
TZID:America/Denver
X-WR-TIMEZONE:America/Denver
BEGIN:VEVENT
UID:1685@krystal93.com
DTSTART;TZID=America/Denver:20250821T160000
DTEND;TZID=America/Denver:20250821T190000
DTSTAMP:20250804T203437Z
URL:https://krystal93.com/events/breck-airstage-2mx2/
SUMMARY:Breck Airstage - 2MX2
DESCRIPTION:Aug 21\, 2025 • 4:00pm–7:00pm\, Thursday+ 2MX2 | Breckenrid
 ge International Festival of Arts \n\nThe Breck Create Summer Apres Airst
 age is our new Music at the Summit Sponsor thru August 21st. \n\nHike\, b
 ike or bus to the Breckenridge Arts District and enjoy outdoor drafts\, cr
 afts and live music on the AirStage Thursdays from June 13 - August 21 (no
  AirStage Après July 10.)  Bring a picnic blanket\, grab dinner to go an
 d let the kids play on the lawn while you catch up with friends and family
 . Beer and other beverages available for purchase. Well-behaved pups on le
 ashes are welcome! 
END:VEVENT
BEGIN:VTIMEZONE
TZID:America/Denver
X-LIC-LOCATION:America/Denver
BEGIN:DAYLIGHT
DTSTART:20250309T030000
TZOFFSETFROM:-0700
TZOFFSETTO:-0600
TZNAME:MDT
END:DAYLIGHT
END:VTIMEZONE
END:VCALENDAR