BEGIN:VCALENDAR
VERSION:2.0
PRODID:-//wp-events-plugin.com//7.2.3.1//EN
TZID:America/Denver
X-WR-TIMEZONE:America/Denver
BEGIN:VEVENT
UID:667@krystal93.com
DTSTART;TZID=America/Denver:20230804T160000
DTEND;TZID=America/Denver:20230804T190000
DTSTAMP:20230730T231246Z
URL:https://krystal93.com/events/breck-airstage-apres-music/
SUMMARY:Breck Airstage Apres Music
DESCRIPTION:Breckenridge Airstage Apres Music\nWho: Mark Schlafer and Big O
 nion\nWhere: Arts District in Breck\nWhen: Friday at 4pm  \n\nDetails: B
 reck Create supports Krystal 93’s Music at the Summit initiative promoti
 ng local musicians and live local music –Sponsored by Mountain Comfort F
 urnishings. For more info about the airstage concerts go to breckcreate-do
 t-org. Krystal Media Supports the Summit. 
END:VEVENT
BEGIN:VTIMEZONE
TZID:America/Denver
X-LIC-LOCATION:America/Denver
BEGIN:DAYLIGHT
DTSTART:20230312T030000
TZOFFSETFROM:-0700
TZOFFSETTO:-0600
TZNAME:MDT
END:DAYLIGHT
END:VTIMEZONE
END:VCALENDAR