BEGIN:VCALENDAR
VERSION:2.0
PRODID:-//wp-events-plugin.com//7.2.3.1//EN
TZID:America/Denver
X-WR-TIMEZONE:America/Denver
BEGIN:VEVENT
UID:1680@krystal93.com
DTSTART;TZID=America/Denver:20250807T160000
DTEND;TZID=America/Denver:20250807T190000
DTSTAMP:20250804T202803Z
URL:https://krystal93.com/events/breck-airstage-john-berning-trio/
SUMMARY:Breck Airstage - John Berning Trio
DESCRIPTION:Music at the Summit’s community sponsor Breckcreate brings yo
 u live music with The Breck Create Airstage Summer Apres. Hike\, bike or b
 us to the Breckenridge Arts District Thursday\, August 7\, to hear The Joh
 n Berning Trio from 4pm to 7pm. Beer and other beverages available for pur
 chase... and bring your well-behaved dogs for some summer fun. 
END:VEVENT
BEGIN:VTIMEZONE
TZID:America/Denver
X-LIC-LOCATION:America/Denver
BEGIN:DAYLIGHT
DTSTART:20250309T030000
TZOFFSETFROM:-0700
TZOFFSETTO:-0600
TZNAME:MDT
END:DAYLIGHT
END:VTIMEZONE
END:VCALENDAR