BEGIN:VCALENDAR
VERSION:2.0
PRODID:-//wp-events-plugin.com//7.2.3.1//EN
TZID:America/Denver
X-WR-TIMEZONE:America/Denver
BEGIN:VEVENT
UID:1684@krystal93.com
DTSTART;TZID=America/Denver:20250814T160000
DTEND;TZID=America/Denver:20250814T190000
DTSTAMP:20250804T203404Z
URL:https://krystal93.com/events/breck-airstage-los-hermanos/
SUMMARY:Breck Airstage - Los Hermanos
DESCRIPTION:Aug 14\, 2025 • 4:00pm–7:00pm\, Thursday+ Los Hermanos | Br
 eckenridge International Festival of Arts \n\nThe Breck Create Summer Apr
 es Airstage is our new Music at the Summit Sponsor thru August 21st. \n\n
 Hike\, bike or bus to the Breckenridge Arts District and enjoy outdoor dra
 fts\, crafts and live music on the AirStage Thursdays from June 13 - Augus
 t 21 (no AirStage Après July 10.)  Bring a picnic blanket\, grab dinner 
 to go and let the kids play on the lawn while you catch up with friends an
 d family. Beer and other beverages available for purchase. Well-behaved pu
 ps on leashes are welcome! 
END:VEVENT
BEGIN:VTIMEZONE
TZID:America/Denver
X-LIC-LOCATION:America/Denver
BEGIN:DAYLIGHT
DTSTART:20250309T030000
TZOFFSETFROM:-0700
TZOFFSETTO:-0600
TZNAME:MDT
END:DAYLIGHT
END:VTIMEZONE
END:VCALENDAR