BEGIN:VCALENDAR
VERSION:2.0
PRODID:-//wp-events-plugin.com//7.2.3.1//EN
TZID:America/Denver
X-WR-TIMEZONE:America/Denver
BEGIN:VEVENT
UID:1757@krystal93.com
DTSTART;TZID=America/Denver:20251206T140000
DTEND;TZID=America/Denver:20251206T190000
DTSTAMP:20251202T133452Z
URL:https://krystal93.com/events/breck-create-winter-weekend/
SUMMARY:Breck Create Winter Weekend
DESCRIPTION:It’s the Breck Create Arts District Winter Weekend—a full 
 weekend of free holiday events! It all starts Friday December 6 for the C
 ampus Crawl with live studio demonstrations and hands-on activities. The
 n on Saturday\, December 6th\, shop the Handmade Holiday Market for uniq
 ue local gifts\, like ceramics and jewelry! And\, bring your dog for t
 he Jingle Paws Runway or join the Santa Dance-Off! It's all happening 
 at the Ridge Street Arts Square and it’s FREE! Visit BreckCreate.o
 rg for the full schedule. Don’t miss The Breck Create Arts District W
 inter Weekend! 
CATEGORIES:Breckenridge Creative Arts
END:VEVENT
BEGIN:VTIMEZONE
TZID:America/Denver
X-LIC-LOCATION:America/Denver
BEGIN:STANDARD
DTSTART:20251102T010000
TZOFFSETFROM:-0600
TZOFFSETTO:-0700
TZNAME:MST
END:STANDARD
END:VTIMEZONE
END:VCALENDAR