BEGIN:VCALENDAR
VERSION:2.0
PRODID:-//wp-events-plugin.com//7.2.3.1//EN
TZID:America/Denver
X-WR-TIMEZONE:America/Denver
BEGIN:VEVENT
UID:1906@krystal93.com
DTSTART;TZID=America/Denver:20260404T190000
DTEND;TZID=America/Denver:20260404T210000
DTSTAMP:20260401T181534Z
URL:https://krystal93.com/events/breck-distillery-comedy-night-w-jack-coms
 tock/
SUMMARY:Breck Distillery Comedy Night w/Jack Comstock
DESCRIPTION:Event Name *: Breck Distillery Comedy Night w/ Jack Comstock\nE
 vent Description *: High Altitude Comedy returns to the Breckenridge Disti
 llery alongside Comedy Works' host with the most\, Jack Comstock!\nEvent S
 tart Date *: 2026-04-04\nEvent End Date *: 2026-04-04\nEvent Time *: 19:00
 \nIf this is a repeating event\, please provide information on the date(s)
  it repeats.: n/a\nEvent Website *: https://www.eventbrite.com/e/breck-dis
 tillery-comedy-night-w-jack-comstock-tickets-1983824014029\nEvent Location
  *: Breckenridge Distillery\nStreet Address *: 1925 Airport Rd\nCity *: Br
 eckenridge\nState *: CO\nZip Code *: 80424
END:VEVENT
BEGIN:VTIMEZONE
TZID:America/Denver
X-LIC-LOCATION:America/Denver
BEGIN:DAYLIGHT
DTSTART:20260308T030000
TZOFFSETFROM:-0700
TZOFFSETTO:-0600
TZNAME:MDT
END:DAYLIGHT
END:VTIMEZONE
END:VCALENDAR