BEGIN:VCALENDAR
VERSION:2.0
PRODID:-//wp-events-plugin.com//7.2.3.1//EN
TZID:America/Denver
X-WR-TIMEZONE:America/Denver
BEGIN:VEVENT
UID:665@krystal93.com
DTSTART;TZID=America/Denver:20230803T173000
DTEND;TZID=America/Denver:20230803T213000
DTSTAMP:20230730T230931Z
URL:https://krystal93.com/events/breckenridge-backstage-theatre-gala/
SUMMARY:Breckenridge Backstage Theatre Gala
DESCRIPTION:Breckenridge Backstage Theatre and BGV present: \nWhat: “Some
 thing in the Air” --the Annual Gala\nWhere: Breckenridge Theater on Ridg
 e Street\nWhen: Thurdsay\, August 3\, from 5:30 to 9:30pm  \n\nDetails: 
 Tickets are 150 dollars per person or 250 per couple. There’ll be live m
 usic with the Whiskey Mystics\, drinks\, food\, an online auction and the 
 reveal of the 2023/24 season! You can go to backstagetheatre.org to get ti
 ckets. 
END:VEVENT
BEGIN:VTIMEZONE
TZID:America/Denver
X-LIC-LOCATION:America/Denver
BEGIN:DAYLIGHT
DTSTART:20230312T030000
TZOFFSETFROM:-0700
TZOFFSETTO:-0600
TZNAME:MDT
END:DAYLIGHT
END:VTIMEZONE
END:VCALENDAR