BEGIN:VCALENDAR
VERSION:2.0
PRODID:-//wp-events-plugin.com//7.2.3.1//EN
TZID:America/Denver
X-WR-TIMEZONE:America/Denver
BEGIN:VEVENT
UID:1715@krystal93.com
DTSTART;TZID=America/Denver;VALUE=DATE:20251003
DTEND;TZID=America/Denver;VALUE=DATE:20251006
DTSTAMP:20250909T140648Z
URL:https://krystal93.com/events/breckenridge-craft-spirits-festival/
SUMMARY:Breckenridge Craft Spirits Festival
DESCRIPTION:Event Name: Still on the Hill Grand Tasting- Breckenridge Cra
 ft Spirits Festival\n\nDescription:\nEnjoy the Breckenridge Craft Spirits 
 Festival- October 3-5\, 2025. The highlight of the weekend is the Still on
  the Hill Grand Tasting\, on Saturday\, October 4 from 4-7pm at the Riverw
 alk Center\, which will showcase the various products of our craft distill
 ers. The public can meet the distillers\, try the various spirits and vote
  for their favorite spirit. Many of the distillers make up cocktails featu
 ring their spirits so that guests may experience how the products can be u
 sed. Guests will also enjoy creative munchies from local restaurants and b
 luegrass music by the Local Folk Band. Grand Tasting tickets are $70 in ad
 vance and $80 day of. Tickets include a tasting glass and entry to the Gra
 nd Tasting (must be 21 to enter\, it is a no-pet event).\n\nDates: 2025-
 10-04 - 2025-10-04\n\nTime: 4:00- 7:00 pm\n\nWebsite: https://www.brecke
 nridgecraftspiritsfestival.com/\n\nEvent Location:\nRiverwalk Center\n150
  W. Adams St.\nBreckenridge\, Colorado 80424
END:VEVENT
BEGIN:VTIMEZONE
TZID:America/Denver
X-LIC-LOCATION:America/Denver
BEGIN:DAYLIGHT
DTSTART:20250309T030000
TZOFFSETFROM:-0700
TZOFFSETTO:-0600
TZNAME:MDT
END:DAYLIGHT
END:VTIMEZONE
END:VCALENDAR