BEGIN:VCALENDAR
VERSION:2.0
PRODID:-//wp-events-plugin.com//7.2.3.1//EN
TZID:America/Denver
X-WR-TIMEZONE:America/Denver
BEGIN:VEVENT
UID:1686@krystal93.com
DTSTART;TZID=America/Denver:20250822T170000
DTEND;TZID=America/Denver:20250822T190000
DTSTAMP:20250804T203620Z
URL:https://krystal93.com/events/breckenridge-history-party/
SUMMARY:Breckenridge History Party
DESCRIPTION:The Edwin Carter Museum is celebrating 150 years\, and Breckenr
 idge History is having a party! The weekend starts on Friday night (obviou
 sly)\, Aug. 22\, with a Ute history talk by Skyler\, a member of the Ute n
 ation. This free talk will take place\, 5-7 pm\, inside the Edwin Carter M
 useum. On Sunday\, Aug. 24\, come to the Carter lawn from 1-3 pm for cupca
 kes\, games\, and a lookback at the museum through the years! \n\n 
CATEGORIES:Breckenridge Creative Arts
END:VEVENT
BEGIN:VTIMEZONE
TZID:America/Denver
X-LIC-LOCATION:America/Denver
BEGIN:DAYLIGHT
DTSTART:20250309T030000
TZOFFSETFROM:-0700
TZOFFSETTO:-0600
TZNAME:MDT
END:DAYLIGHT
END:VTIMEZONE
END:VCALENDAR