BEGIN:VCALENDAR
VERSION:2.0
PRODID:-//wp-events-plugin.com//7.2.3.1//EN
TZID:America/Denver
X-WR-TIMEZONE:America/Denver
BEGIN:VEVENT
UID:1700@krystal93.com
DTSTART;TZID=America/Denver;VALUE=DATE:20250912
DTEND;TZID=America/Denver;VALUE=DATE:20250915
DTSTAMP:20250829T145106Z
URL:https://krystal93.com/events/breckenridge-oktoberfest-2/
SUMMARY:Breckenridge Oktoberfest
DESCRIPTION:Returning to Main Street Breckenridge Sept. 12-14 is Brecken
 ridge Oktoberfest with three full days of food\, drink and fun. Breck Bre
 wery brings the toasty Oktoberfest lager\, plus libations from Launch Pad 
 Brewery and Incline Cider Companu. On Saturday and Sunday only Paulaner Mu
 nchen will be on tap. Volunteers receive a free stein and two free drinks
  in exchange for their shift\, or tune into Krystal 93 for stein giveawa
 ys courtesy of Go Breck.
END:VEVENT
BEGIN:VTIMEZONE
TZID:America/Denver
X-LIC-LOCATION:America/Denver
BEGIN:DAYLIGHT
DTSTART:20250309T030000
TZOFFSETFROM:-0700
TZOFFSETTO:-0600
TZNAME:MDT
END:DAYLIGHT
END:VTIMEZONE
END:VCALENDAR