BEGIN:VCALENDAR
VERSION:2.0
PRODID:-//wp-events-plugin.com//7.2.3.1//EN
TZID:America/Denver
X-WR-TIMEZONE:America/Denver
BEGIN:VEVENT
UID:1153@krystal93.com
DTSTART;TZID=America/Denver:20240913T000000
DTEND;TZID=America/Denver:20240915T000000
DTSTAMP:20240829T013701Z
URL:https://krystal93.com/events/breckenridge-oktoberfest/
SUMMARY:Breckenridge Oktoberfest
DESCRIPTION:One of the most iconic Oktoberfest celebrations in Colorado is 
 back with a three-day event in downtown Breck\, September 13-15.  The 27t
 h annual Breckenridge Oktoberfest Presented by Breckenridge Brewery will h
 ave Oktoberfest traditions\, live music\, and collectible steins as well a
 s local flavors from Breckenridge Brewery. Beer pouring starts at 2pm Frid
 ay Sept. 13. We’ll be giving away TWO steins for Breck’s Oktoberfest o
 n Friday Sept. 6. Go to gobreck.com for more details. 
END:VEVENT
BEGIN:VTIMEZONE
TZID:America/Denver
X-LIC-LOCATION:America/Denver
BEGIN:DAYLIGHT
DTSTART:20240310T030000
TZOFFSETFROM:-0700
TZOFFSETTO:-0600
TZNAME:MDT
END:DAYLIGHT
END:VTIMEZONE
END:VCALENDAR