BEGIN:VCALENDAR
VERSION:2.0
PRODID:-//wp-events-plugin.com//7.2.3.1//EN
TZID:America/Denver
X-WR-TIMEZONE:America/Denver
BEGIN:VEVENT
UID:610@krystal93.com
DTSTART;TZID=America/Denver;VALUE=DATE:20230609
DTEND;TZID=America/Denver;VALUE=DATE:20230611
DTSTAMP:20230601T015511Z
URL:https://krystal93.com/events/broken-compass-9th-anniversary/
SUMMARY:Broken Compass 9th Anniversary
DESCRIPTION:Who:  Broken Compass Brewing\nWhat:  9th Anniversary Party\nW
 hen:  Friday and Saturday June 9  + 10\nWhere:  OG Brewery off Airport 
 Road in Breckenridg \n\nDetails:  Festivities at the OG Brewery &amp\; T
 aproom kick off on Friday at 4 PM with the Cosmic Charlies\, followed by E
 l Paso Lasso 7-10 PM.  Doors open early at 10 AM Saturday\, with the rele
 ase of the 2023-2024 Mug Club\, and music all day starting at 11am.  Spec
 ialty limited edition beers on tap all day with  local arts\, crafts and 
 gear vendors on site as well! 
CATEGORIES:Broken Compass
END:VEVENT
BEGIN:VTIMEZONE
TZID:America/Denver
X-LIC-LOCATION:America/Denver
BEGIN:DAYLIGHT
DTSTART:20230312T030000
TZOFFSETFROM:-0700
TZOFFSETTO:-0600
TZNAME:MDT
END:DAYLIGHT
END:VTIMEZONE
END:VCALENDAR