BEGIN:VCALENDAR
VERSION:2.0
PRODID:-//wp-events-plugin.com//7.2.3.1//EN
TZID:America/Denver
X-WR-TIMEZONE:America/Denver
BEGIN:VEVENT
UID:546@krystal93.com
DTSTART;TZID=America/Denver:20230420T170000
DTEND;TZID=America/Denver:20230420T190000
DTSTAMP:20230410T170507Z
URL:https://krystal93.com/events/broken-compass-thirsty-third-thursday/
SUMMARY:Broken Compass Thirsty Third Thursday
DESCRIPTION:Thursday\, Come to Broken Compass in La Cima Mall in downtown B
 reckenridge for great brews from 5:00-7:00pm with the Krystal 93 crew. We'
 ll have great prizes to give away\, and fun contests. You could win ticket
 s to Tramples by Turtles at Red Rocks\, Umphreys McGee at Red Rocks\, De
 ad South at the Dillon Amphitheater\, Rebelution at the Dillon Amphitheate
 r\,  Weezer and Spoon at Fiddlers Green\, or you could win Arapahoe Basin
  and Loveland Ski area lift tickets.\n&nbsp\;\n
CATEGORIES:Broken Compass
END:VEVENT
BEGIN:VTIMEZONE
TZID:America/Denver
X-LIC-LOCATION:America/Denver
BEGIN:DAYLIGHT
DTSTART:20230312T030000
TZOFFSETFROM:-0700
TZOFFSETTO:-0600
TZNAME:MDT
END:DAYLIGHT
END:VTIMEZONE
END:VCALENDAR