BEGIN:VCALENDAR
VERSION:2.0
PRODID:-//wp-events-plugin.com//7.2.3.1//EN
TZID:America/Denver
X-WR-TIMEZONE:America/Denver
BEGIN:VEVENT
UID:1284@krystal93.com
DTSTART;TZID=America/Denver:20241207T203000
DTEND;TZID=America/Denver:20241207T223000
DTSTAMP:20241201T203611Z
URL:https://krystal93.com/events/brother-ali-with-ant-at-10-mile-music-hal
 l/
SUMMARY:Brother Ali with Ant at 10 Mile Music Hall
DESCRIPTION:Krystal 93 with Z-2 Entertainment present Brother Ali with Ant.
  They’ll play classic indie Hip Hop tunes on Saturday December 7 at 10 M
 ile Music Hall in Frisco.  You can find tickets at Z2Ent.com. 
CATEGORIES:10 Mile Music Hall
END:VEVENT
BEGIN:VTIMEZONE
TZID:America/Denver
X-LIC-LOCATION:America/Denver
BEGIN:STANDARD
DTSTART:20241103T010000
TZOFFSETFROM:-0600
TZOFFSETTO:-0700
TZNAME:MST
END:STANDARD
END:VTIMEZONE
END:VCALENDAR