BEGIN:VCALENDAR
VERSION:2.0
PRODID:-//wp-events-plugin.com//7.2.3.1//EN
TZID:America/Denver
X-WR-TIMEZONE:America/Denver
BEGIN:VEVENT
UID:1023@krystal93.com
DTSTART;TZID=America/Denver:20240601T170000
DTEND;TZID=America/Denver:20240601T200000
DTSTAMP:20240531T235135Z
URL:https://krystal93.com/events/brozay-party-saved-by-the-wine/
SUMMARY:Brozay Party - Saved by The Wine
DESCRIPTION:Kick off summer on the patio with Saved By The Wine’s Brozay 
 Party\, Saturday June 1st in Dillon.  It’s the launch of the icy delici
 ous treat – Frozay\, with Rosay deals all day.  They’ll have a Live D
 J from 5-8\, no cover.
END:VEVENT
BEGIN:VTIMEZONE
TZID:America/Denver
X-LIC-LOCATION:America/Denver
BEGIN:DAYLIGHT
DTSTART:20240310T030000
TZOFFSETFROM:-0700
TZOFFSETTO:-0600
TZNAME:MDT
END:DAYLIGHT
END:VTIMEZONE
END:VCALENDAR