BEGIN:VCALENDAR
VERSION:2.0
PRODID:-//wp-events-plugin.com//7.2.3.1//EN
TZID:America/Denver
X-WR-TIMEZONE:America/Denver
BEGIN:VEVENT
UID:1707@krystal93.com
DTSTART;TZID=America/Denver:20250911T180000
DTEND;TZID=America/Denver:20250911T190000
DTSTAMP:20250829T150737Z
URL:https://krystal93.com/events/building-hope-aerial-adventure-2/
SUMMARY:Building Hope - Outdoor Teen Yoga
DESCRIPTION:THURSDAY\, SEPTEMBER 11\, 2025\n\nOutdoor Teen Yoga with Jess (
 Bilingual)\n\n6:00 pm - 7:00 pm / Silverthorne\n\nJoin Building Hope and J
 ess for a chill\, outdoor yoga session at Rainbow Park at Silverthorne-mov
 e your body\, breathe deep\, and feel the flow together in the fresh air. 
 This event is intended for Summit County residents only. Ages 12-18. Event
  Facilitated in English and Spanish.
CATEGORIES:Building Hope Summit County
END:VEVENT
BEGIN:VTIMEZONE
TZID:America/Denver
X-LIC-LOCATION:America/Denver
BEGIN:DAYLIGHT
DTSTART:20250309T030000
TZOFFSETFROM:-0700
TZOFFSETTO:-0600
TZNAME:MDT
END:DAYLIGHT
END:VTIMEZONE
END:VCALENDAR