BEGIN:VCALENDAR
VERSION:2.0
PRODID:-//wp-events-plugin.com//7.2.3.1//EN
TZID:America/Denver
X-WR-TIMEZONE:America/Denver
BEGIN:VEVENT
UID:1706@krystal93.com
DTSTART;TZID=America/Denver:20250907T100000
DTEND;TZID=America/Denver:20250907T123000
DTSTAMP:20250829T145812Z
URL:https://krystal93.com/events/building-hope-aerial-adventure/
SUMMARY:Building Hope - Aerial Adventure
DESCRIPTION:SUNDAY\, SEPTEMBER 7\, 2025 Aerial Adventure\n\nAges 12-18 10:0
 0 am - 12:30 pm\n\nA-Basin Challenge yourself and build confidence with an
  Aerial Adventure! This event is intended for Summit County residents only
 . Ages 12-18. Event Facilitated in English.
CATEGORIES:Building Hope Summit County
END:VEVENT
BEGIN:VTIMEZONE
TZID:America/Denver
X-LIC-LOCATION:America/Denver
BEGIN:DAYLIGHT
DTSTART:20250309T030000
TZOFFSETFROM:-0700
TZOFFSETTO:-0600
TZNAME:MDT
END:DAYLIGHT
END:VTIMEZONE
END:VCALENDAR