BEGIN:VCALENDAR
VERSION:2.0
PRODID:-//wp-events-plugin.com//7.2.3.1//EN
TZID:America/Denver
X-WR-TIMEZONE:America/Denver
BEGIN:VEVENT
UID:1709@krystal93.com
DTSTART;TZID=America/Denver:20250916T180000
DTEND;TZID=America/Denver:20250916T200000
DTSTAMP:20250829T150121Z
URL:https://krystal93.com/events/building-hope-community-qpr/
SUMMARY:Building Hope -Community QPR
DESCRIPTION:TUESDAY\, SEPTEMBER 16\, 2025\n\nCommunity QPR\n\n6:00 pm - 8:0
 0 pm / Frisco\n\nQPR: Question. Persuade. Refer. The 3 simple yet powerful
  steps anyone can learn to help save a life from suicide. This training is
  intended for adults. Food &amp\; childcare will be provided. Training fac
 ilitated in English and Spanish.
CATEGORIES:Building Hope Summit County
END:VEVENT
BEGIN:VTIMEZONE
TZID:America/Denver
X-LIC-LOCATION:America/Denver
BEGIN:DAYLIGHT
DTSTART:20250309T030000
TZOFFSETFROM:-0700
TZOFFSETTO:-0600
TZNAME:MDT
END:DAYLIGHT
END:VTIMEZONE
END:VCALENDAR