BEGIN:VCALENDAR
VERSION:2.0
PRODID:-//wp-events-plugin.com//7.2.3.1//EN
TZID:America/Denver
X-WR-TIMEZONE:America/Denver
BEGIN:VEVENT
UID:1386@krystal93.com
DTSTART;TZID=America/Denver:20250203T180000
DTEND;TZID=America/Denver:20250203T193000
DTSTAMP:20250203T151224Z
URL:https://krystal93.com/events/building-hope-ecstatic-dance/
SUMMARY:Building Hope - Ecstatic Dance
DESCRIPTION:MONDAY\, FEBRUARY 3\, 2025 ECSTATIC DANCE\n\n6-7:30 pm / Silver
 thorne\n\nJoin us for a dance party with a live DJ and epic views. Connect
  to a conscious community and leave feeling refreshed and energized. All c
 hildren 12 and under must be accompanied by an adult. This event is intend
 ed for Summit County residents only.\n\nEvent Facilitated in English.\n\nF
 or more information: Building Hope Summit County
END:VEVENT
BEGIN:VTIMEZONE
TZID:America/Denver
X-LIC-LOCATION:America/Denver
BEGIN:STANDARD
DTSTART:20241103T010000
TZOFFSETFROM:-0600
TZOFFSETTO:-0700
TZNAME:MST
END:STANDARD
END:VTIMEZONE
END:VCALENDAR