BEGIN:VCALENDAR
VERSION:2.0
PRODID:-//wp-events-plugin.com//7.2.3.1//EN
TZID:America/Denver
X-WR-TIMEZONE:America/Denver
BEGIN:VEVENT
UID:1710@krystal93.com
DTSTART;TZID=America/Denver:20250920T100000
DTEND;TZID=America/Denver:20250920T120000
DTSTAMP:20250829T150230Z
URL:https://krystal93.com/events/building-hope-expression-wall/
SUMMARY:Building Hope - Expression Wall
DESCRIPTION:SATURDAY\, SEPTEMBER 20\, 2025\n\nExpression Wall by Simple Stu
 dio (Bilingual)\n\n10:00 am -12:00 pm / Silverthorne\n\nParticipants of th
 is event will help create an idea for a mural that represents community me
 mbers values and can bring awareness to the importance of wellness and men
 tal health. All this while creating an environment of trust\, love\, respe
 ct and connection with other members of the community and their families. 
 No childcare or supervision of children is being provided. This event is i
 ntended for Summit County residents only. Event Facilitated in English and
  Spanish.
CATEGORIES:Building Hope Summit County
END:VEVENT
BEGIN:VTIMEZONE
TZID:America/Denver
X-LIC-LOCATION:America/Denver
BEGIN:DAYLIGHT
DTSTART:20250309T030000
TZOFFSETFROM:-0700
TZOFFSETTO:-0600
TZNAME:MDT
END:DAYLIGHT
END:VTIMEZONE
END:VCALENDAR